BEGIN:VCALENDAR
VERSION:2.0
PRODID:-//Public Works Art Center - ECPv6.15.20//NONSGML v1.0//EN
CALSCALE:GREGORIAN
METHOD:PUBLISH
X-WR-CALNAME:Public Works Art Center
X-ORIGINAL-URL:https://publicworksartcenter.org
X-WR-CALDESC:Events for Public Works Art Center
REFRESH-INTERVAL;VALUE=DURATION:PT1H
X-Robots-Tag:noindex
X-PUBLISHED-TTL:PT1H
BEGIN:VTIMEZONE
TZID:America/Detroit
BEGIN:DAYLIGHT
TZOFFSETFROM:-0500
TZOFFSETTO:-0400
TZNAME:EDT
DTSTART:20240310T070000
END:DAYLIGHT
BEGIN:STANDARD
TZOFFSETFROM:-0400
TZOFFSETTO:-0500
TZNAME:EST
DTSTART:20241103T060000
END:STANDARD
BEGIN:DAYLIGHT
TZOFFSETFROM:-0500
TZOFFSETTO:-0400
TZNAME:EDT
DTSTART:20250309T070000
END:DAYLIGHT
BEGIN:STANDARD
TZOFFSETFROM:-0400
TZOFFSETTO:-0500
TZNAME:EST
DTSTART:20251102T060000
END:STANDARD
BEGIN:DAYLIGHT
TZOFFSETFROM:-0500
TZOFFSETTO:-0400
TZNAME:EDT
DTSTART:20260308T070000
END:DAYLIGHT
BEGIN:STANDARD
TZOFFSETFROM:-0400
TZOFFSETTO:-0500
TZNAME:EST
DTSTART:20261101T060000
END:STANDARD
END:VTIMEZONE
BEGIN:VEVENT
DTSTART;TZID=America/Detroit:20250329T120000
DTEND;TZID=America/Detroit:20250329T150000
DTSTAMP:20260422T202914
CREATED:20250304T200830Z
LAST-MODIFIED:20250326T180519Z
UID:7019-1743249600-1743260400@publicworksartcenter.org
SUMMARY:Saturday 3/29\, 12-3pm\, Sketch Summerville
DESCRIPTION:From noon to 3pm\, come sketch with us at Linwood Gardens. We will meet at noon in front of Linwood Inn (200 S Palmetto Street)\, then go forth and draw whatever sparks our fancy. Sketch with pencil\, ink\, watercolors or whatever media you like best. Bring your chosen media and meet other people interested in sketching in Summerville. Whatever your skill level is – come sketch with us. This will be a monthly get together\, future dates announced soon! For adults and teens 14+ \nPARKING: You can park out front on the grassy side of the road and walk through the Linwood gate. \nWhat to bring: a note book\, your preferred media (pencil\, pen\, watercolor\, etc)\, and maybe a camp chair.
URL:https://publicworksartcenter.org/events-cal/saturday-3-29-12-3pm-sketch-summerville/
LOCATION:Public Works Art Center\, 135 West Richardson Avenue\, Summerville\, SC\, 29483\, United States
CATEGORIES:Classes,Drawing / Painting
ATTACH;FMTTYPE=image/png:https://publicworksartcenter.org/wp-content/uploads/2025/03/Class-Template-2.png
END:VEVENT
END:VCALENDAR