BEGIN:VCALENDAR
VERSION:2.0
PRODID:-//Public Works Art Center - ECPv6.15.20//NONSGML v1.0//EN
CALSCALE:GREGORIAN
METHOD:PUBLISH
X-WR-CALNAME:Public Works Art Center
X-ORIGINAL-URL:https://publicworksartcenter.org
X-WR-CALDESC:Events for Public Works Art Center
REFRESH-INTERVAL;VALUE=DURATION:PT1H
X-Robots-Tag:noindex
X-PUBLISHED-TTL:PT1H
BEGIN:VTIMEZONE
TZID:America/Detroit
BEGIN:DAYLIGHT
TZOFFSETFROM:-0500
TZOFFSETTO:-0400
TZNAME:EDT
DTSTART:20230312T070000
END:DAYLIGHT
BEGIN:STANDARD
TZOFFSETFROM:-0400
TZOFFSETTO:-0500
TZNAME:EST
DTSTART:20231105T060000
END:STANDARD
BEGIN:DAYLIGHT
TZOFFSETFROM:-0500
TZOFFSETTO:-0400
TZNAME:EDT
DTSTART:20240310T070000
END:DAYLIGHT
BEGIN:STANDARD
TZOFFSETFROM:-0400
TZOFFSETTO:-0500
TZNAME:EST
DTSTART:20241103T060000
END:STANDARD
BEGIN:DAYLIGHT
TZOFFSETFROM:-0500
TZOFFSETTO:-0400
TZNAME:EDT
DTSTART:20250309T070000
END:DAYLIGHT
BEGIN:STANDARD
TZOFFSETFROM:-0400
TZOFFSETTO:-0500
TZNAME:EST
DTSTART:20251102T060000
END:STANDARD
END:VTIMEZONE
BEGIN:VEVENT
DTSTART;VALUE=DATE:20240118
DTEND;VALUE=DATE:20240317
DTSTAMP:20260421T113546
CREATED:20240223T215652Z
LAST-MODIFIED:20240308T180349Z
UID:2076-1705536000-1710633599@publicworksartcenter.org
SUMMARY:Group Show: All At Once
DESCRIPTION:Join Public Works Art Center as we celebrate the works of our beloved Public Works Art Center’s studio artists. On view in the West Gallery from January 21st – March 16\, 2024.
URL:https://publicworksartcenter.org/events-cal/group-show-all-at-once/
LOCATION:Public Works Art Center | West Gallery\, 135 West Richardson Ave\, Summerville\, SC\, United States
CATEGORIES:Exhibits
ATTACH;FMTTYPE=image/webp:https://publicworksartcenter.org/wp-content/uploads/2024/02/Jan-Ex-03_1707248156.webp
END:VEVENT
END:VCALENDAR