BEGIN:VCALENDAR
VERSION:2.0
PRODID:-//Public Works Art Center - ECPv6.15.20//NONSGML v1.0//EN
CALSCALE:GREGORIAN
METHOD:PUBLISH
X-WR-CALNAME:Public Works Art Center
X-ORIGINAL-URL:https://publicworksartcenter.org
X-WR-CALDESC:Events for Public Works Art Center
REFRESH-INTERVAL;VALUE=DURATION:PT1H
X-Robots-Tag:noindex
X-PUBLISHED-TTL:PT1H
BEGIN:VTIMEZONE
TZID:America/Detroit
BEGIN:DAYLIGHT
TZOFFSETFROM:-0500
TZOFFSETTO:-0400
TZNAME:EDT
DTSTART:20240310T070000
END:DAYLIGHT
BEGIN:STANDARD
TZOFFSETFROM:-0400
TZOFFSETTO:-0500
TZNAME:EST
DTSTART:20241103T060000
END:STANDARD
BEGIN:DAYLIGHT
TZOFFSETFROM:-0500
TZOFFSETTO:-0400
TZNAME:EDT
DTSTART:20250309T070000
END:DAYLIGHT
BEGIN:STANDARD
TZOFFSETFROM:-0400
TZOFFSETTO:-0500
TZNAME:EST
DTSTART:20251102T060000
END:STANDARD
BEGIN:DAYLIGHT
TZOFFSETFROM:-0500
TZOFFSETTO:-0400
TZNAME:EDT
DTSTART:20260308T070000
END:DAYLIGHT
BEGIN:STANDARD
TZOFFSETFROM:-0400
TZOFFSETTO:-0500
TZNAME:EST
DTSTART:20261101T060000
END:STANDARD
END:VTIMEZONE
BEGIN:VEVENT
DTSTART;TZID=America/Detroit:20250220T170000
DTEND;TZID=America/Detroit:20250220T200000
DTSTAMP:20260422T075900
CREATED:20250207T204232Z
LAST-MODIFIED:20250207T204232Z
UID:6414-1740070800-1740081600@publicworksartcenter.org
SUMMARY:Community Care Affair
DESCRIPTION:Join us at Public Works Art Center for our Community Care Affair—a night of culture\, connection\, and care! \n📅 February 20 | 5:00 – 8:00 PM\n🎶 Free Aromatherapy Bar\n📚 Community Media Swap – bring books\, vinyl\, or CDs to trade!\n💡 Booths featuring: We Are Family\, Be Impactful\, Avery Research Center\, & SC Housing Justice \nPLUS: Stay tuned for exclusive video interviews with Dr. Tamara Butler (Avery Research Center) & Dr. Pernessa Seele (Lincolnville Preservation & Historical Society)\, and check out our Black History Month Spotify playlist celebrating Black artists across genres: open.spotify.com/playlist/3VupZtACUvAXIm9DWQyGNG?si=SUG97jCXSWWT9ogznEeP2A \nLet’s honor history\, uplift voices\, and build community together. See you there! ❤️💛💚
URL:https://publicworksartcenter.org/events-cal/community-care-affair/
LOCATION:EVERYWHERE! Public Works Art Center Takeover\, 135 W Richardson Ave\, summerville\, SC\, 29483\, United States
CATEGORIES:Events
ATTACH;FMTTYPE=image/png:https://publicworksartcenter.org/wp-content/uploads/2025/02/Green-Orange-Modern-Playful-Black-History-Month-Instagram-Post-4-x-5-in-2.png
END:VEVENT
END:VCALENDAR